BEGIN:VCALENDAR
VERSION:2.0
BEGIN:VEVENT
URL:https://1rodina.cz/index.php/sit-1rodina/udalosti/viewevent/148-kdo-lze-ten-ktade-a-muze-i-zabit 
DTSTART:20241231T000000
DTEND:20241231T001500
SUMMARY:KDO LŽE TEN KTADE A MÚŽE I ZABÍT
DESCRIPTION:Vyhledali v archivu za mořem tištěný dokument z 31.1.1999 kdy podmínkou pro sjednocení německa je NEROZŠÍŘENÍ NACO. LHALI INDIÁNÚM. LHALI SLOVANÚM. Platí přísloví KDO LŽE TEN KRADE A MÚŽE I ZABÍT
LOCATION:SVĚT
END:VEVENT
END:VCALENDAR