BEGIN:VCALENDAR
VERSION:2.0
BEGIN:VEVENT
URL:https://1rodina.cz/index.php/sit-1rodina/udalosti/viewevent/149-slovaci-hodili-vidle-do-vho-a-s-orbanem-do-mobilizace-slovanu 
DTSTART:20240606T000000
DTEND:20241231T001500
SUMMARY:SLOVÁCI HODILI VIDLE DO VHO A S ORBÁNEM DO MOBILIZACE SLOVANÚ
DESCRIPTION:Přátelé je to důvod k oslavě - malá a důležitá vítězství ve velkém střetu dobra a zla. 
LOCATION:SVĚT
END:VEVENT
END:VCALENDAR