BEGIN:VCALENDAR
VERSION:2.0
BEGIN:VEVENT
URL:https://1rodina.cz/index.php/sit-1rodina/udalosti/viewevent/15-ministr-valek 
DTSTART:20230813T000000
DTEND:20230813T001500
SUMMARY:Ministr VÁLEK
DESCRIPTION:
LOCATION:Královéhradecký kraj
END:VEVENT
END:VCALENDAR