BEGIN:VCALENDAR
VERSION:2.0
BEGIN:VEVENT
URL:https://1rodina.cz/index.php/sit-1rodina/udalosti/viewevent/150-bylo-nebylo-davno-tomu-jiz-dnes-je-vsak-den-v 
DTSTART:20240608T000000
DTEND:20240609T000000
SUMMARY:BYLO NEBYLO DÁVNO TOMU JIŽ - DNES JE VŠAK DEN "V"
DESCRIPTION:Přátelé tady a teď prožíváme okamžik PRAVDY.  V ČESKU JSOU VÝSLEDKY ZNÁMY A Z NAZNÁMÝCH DÚVODÚ NÁS TADY BUDOU CELÝ DEN VODIT ZA NOS. DMRDÍ TO Já se s tím srovnám. Není to poprvé kdy se protahuje vyhlášení výsledků Sledoval jsem volby za mořem a trvalo to týdny než vypotili . To je ta "digitalizace"  Kecy , kecy , kecy..
LOCATION:SVĚT
END:VEVENT
END:VCALENDAR