BEGIN:VCALENDAR
VERSION:2.0
BEGIN:VEVENT
URL:https://1rodina.cz/index.php/sit-1rodina/udalosti/viewevent/151-jiste-hlasy 
DTSTART:20240608T000000
DTEND:20250131T001500
SUMMARY:JISTÉ HLASY
DESCRIPTION:Přátelé když uvážíme že na Václaváku bylo  3 000 lidiček slovy tři tisíce tak doma na ně čekali  většinou partneři tak šest tisíc hlasů pro č. 11 je jistých tak jsem zvědav kolik nám napočítají blbečci z krytu. ALE TO JE JEDNO, DÚLEŽITÝ JE FAKT Ž JSME  TAM PŘADALI  HLAS SVĚTU ŽE CHCEME MÍR A SDÍLELA TO SVĚTOVÁ MÉDIA
LOCATION:SVĚT
END:VEVENT
END:VCALENDAR