BEGIN:VCALENDAR
VERSION:2.0
BEGIN:VEVENT
URL:https://1rodina.cz/index.php/sit-1rodina/udalosti/viewevent/152-cim-dal-tim-lip 
DTSTART:20240609T000000
DTEND:20240610T000000
SUMMARY:ČÍM DÁL TÍM LÍP 
DESCRIPTION:Výsledky známy od včera a ani nemusejí vypínat na tři hodiny proud jako za mořem aby pak do dneška do noci zázrakem vyrobili výsledky. VLÁDA LIDU A LIDEM PAK ŘEKNEME POSLÉZE CO BUDEME CHTÍT . KDO TO ZKONTROLUJE.
LOCATION:Česká republika
END:VEVENT
END:VCALENDAR