BEGIN:VCALENDAR
VERSION:2.0
BEGIN:VEVENT
URL:https://1rodina.cz/index.php/sit-1rodina/udalosti/viewevent/153-kostky-jsou-vrzeny-kdo-je-asi-michal 
DTSTART:20240610T000000
DTEND:20241231T001500
SUMMARY:KOSTKY JSOU VRŽENY - KDO JE  ASI MÍCHAL
DESCRIPTION:Přátelé hrají s námi jako s podřadnými parazity špinavou hru ,ZBÝVÁ TU HRU DOHRÁT. VELKÉ DIVADLO BYLY I ÚDAJNÉ MISE NA MĚSÍCI, naseděly údajné dokumenty a tak se radši ´údajně ztratily z trezoru, uvedu dvě fakta údajný otisk boty na Měsíci měl na fotce drážkovanou podrážku a na skafandru v muzeu hladkou a fotka s vlajkou údajně zapíchnutou na Měsíci vlála a to v prostření bez atmosféry není možné. Když si uvědomíme způsob hry soupeře ( protože to není partner k životu) tak snadněji takového prostě budeme ignorovat a to se děle, končí hra na údajný dolar. TATO VOLEBNÍ HRA JE DOHRÁNA ČEKÁ NÁS DALŠÍ TAH A JE POTŘEBA ZAPOJIT - ŘÍKÁ SE TOMU MOZEK  
LOCATION:SVĚT
END:VEVENT
END:VCALENDAR