BEGIN:VCALENDAR
VERSION:2.0
BEGIN:VEVENT
URL:https://1rodina.cz/index.php/sit-1rodina/udalosti/viewevent/154-nase-hnuti-volilo-podle-zverejnenych-udaju-cca-7-500-volicu 
DTSTART:20240610T000000
DTEND:20240611T000000
SUMMARY:.NAŠE HNUTÍ VOLILO podle zveřejněných údajů cca 7.500,- VOLIČÚ
DESCRIPTION:Přátelé k přesnému číslu jsem se nedopočítal, starší údaje z r. 2018 uvádí 8,34 milionů voličů a z toho ty %.  
LOCATION:Česká republika
END:VEVENT
END:VCALENDAR