BEGIN:VCALENDAR
VERSION:2.0
BEGIN:VEVENT
URL:https://1rodina.cz/index.php/sit-1rodina/udalosti/viewevent/155-nikoho-na-svete-nezajima-jak-se-citime 
DTSTART:20240610T000000
DTEND:20241231T001500
SUMMARY:NIKOHO NA SVĚTĚ NEZAJÍMÁ JAK SE CÍTÍME
DESCRIPTION:Táta mi říkal " nehoň slepice - neponesou" a vidím v tom velkou pravdu. MY JSME TI CO SNÁŠEJÍ ZLATÁ VEJCE a zacházejí s námi hůř než s dobytkem. Hezky snášej a při tom trp. Přátelé dnešní limit událostí jsem tímto vyčerpal ale musel jsem sdělit jak to cítím ve světle událostí. 
LOCATION:Česká republika
END:VEVENT
END:VCALENDAR