BEGIN:VCALENDAR
VERSION:2.0
BEGIN:VEVENT
URL:https://1rodina.cz/index.php/sit-1rodina/udalosti/viewevent/156-cr-1-volilo-v-nasem-meste-14-pratel-a-je-to-0-47 
DTSTART:20240613T000000
DTEND:20241231T001500
SUMMARY:ČR 1. VOLILO V NAŠEM MĚSTĚ 14  přátel a je to 0,47%
DESCRIPTION:<span>Přátelé mám radost protože to vypadalo že i naše dna hlasy nejsou zveřejněny a když čtu  celkem ČTRNÁCT trochu mne to hřeje a jsem rád, že můžeme sestavit do okresního přeboru tu fotbalovou jedenáctku co byla na plakátě.</span><div><br /></div>
LOCATION:Jaroměř
END:VEVENT
END:VCALENDAR