BEGIN:VCALENDAR
VERSION:2.0
BEGIN:VEVENT
URL:https://1rodina.cz/index.php/sit-1rodina/udalosti/viewevent/157-kluci-hledaji-ponorku-a-dve-lode-se-vlecou-z-bojiste 
DTSTART:20240613T000000
DTEND:20240630T000000
SUMMARY:KLUCI HLEDAJÍ PONORKU a DVĚ LODĚ SE VLEČOU z BOJIŠTĚ 
DESCRIPTION:Přátelé bosí Nomádi trefili další tentokrát britskou lodičku a  kluci se stahujou  " do předem, připravených pozicí" jak říkal áda.  ŇÁk SE TO DROBÍ 
LOCATION:Svět
END:VEVENT
END:VCALENDAR