BEGIN:VCALENDAR
VERSION:2.0
BEGIN:VEVENT
URL:https://1rodina.cz/index.php/sit-1rodina/udalosti/viewevent/158-podivne-zachranovani-a-leceni 
DTSTART:20240615T000000
DTEND:20240630T000000
SUMMARY:PODIVNÉ ZACHRAŇOVÁNÍ A LÉČENÍ
DESCRIPTION:Bez komentáře
LOCATION:Praha
END:VEVENT
END:VCALENDAR