BEGIN:VCALENDAR
VERSION:2.0
BEGIN:VEVENT
URL:https://1rodina.cz/index.php/sit-1rodina/udalosti/viewevent/159-podle-informace-vojty-nemce-je-ondra-na-jip 
DTSTART:20240616T000000
DTEND:20240630T000000
SUMMARY:PODLE INFORMACE Vojty Němce JE ONDRA NA JIP
DESCRIPTION:<span>Přátelé z informace Vojty Němce, který uvedl, že informace které zveřejní se snaží mít podložené  ŽE ONDRA TOR JE NA JEDNOTCE INTENZIVNÍ PÉČE, ve které nemocnici leží neuvedl. Kdo jste z Prahy zkuste to zjistit. Ondru myšlenkou podporuji.</span><div><br /></div>
LOCATION:Česká republika
END:VEVENT
END:VCALENDAR