BEGIN:VCALENDAR
VERSION:2.0
BEGIN:VEVENT
URL:https://1rodina.cz/index.php/sit-1rodina/udalosti/viewevent/160-ondra-thor-je-dle-ktv-v-poradku 
DTSTART:20240616T000000
DTEND:20240629T000000
SUMMARY:ONDRA THOR JE DLE KTV V POŘÁDKU 
DESCRIPTION:Přátelé redaktor televize KTV sdělil, že Ondra je v pořádku a podle mne kvůli jeho bezpečnosti nesděluje kde se nachází. Ondro BUĎ ZDRÁV
LOCATION:Česká republika
END:VEVENT
END:VCALENDAR