BEGIN:VCALENDAR
VERSION:2.0
BEGIN:VEVENT
URL:https://1rodina.cz/index.php/sit-1rodina/udalosti/viewevent/161-myslenka-ja-energie-a-ma-tendenci-zhmotnit-se 
DTSTART:20240618T000000
DTEND:20240715T000000
SUMMARY:MYŠLENKA JA ENERGIE A MÁ TENDENCI ZHMOTNIT SE
DESCRIPTION:Věnuji svoji pozornost propagaci MÍRU a událostem s ním spojenými a snažím se filtrovat přijímané informace a chci si tím zachovat čistou hlavu a neupadnout pod tíhou přeinformovanosti do chaosu.  
LOCATION:Svět
END:VEVENT
END:VCALENDAR