BEGIN:VCALENDAR
VERSION:2.0
BEGIN:VEVENT
URL:https://1rodina.cz/index.php/sit-1rodina/udalosti/viewevent/162-ja-jsem-agent-si-aj-ej-a-na-ondru-jsem-kratkej 
DTSTART:20240622T000000
DTEND:20240731T001500
SUMMARY:JÁ JSEM AGENT sí áj éj a na Ondru jsem krátkéj
DESCRIPTION:Ondro Ty jsi je přečůral
LOCATION:SVĚT
END:VEVENT
END:VCALENDAR