BEGIN:VCALENDAR
VERSION:2.0
BEGIN:VEVENT
URL:https://1rodina.cz/index.php/sit-1rodina/udalosti/viewevent/163-histricke-vehikly-f-16 
DTSTART:20240624T000000
DTEND:20240731T000000
SUMMARY:HISTRICKÉ VEHIKLY F 16
DESCRIPTION:Přátelé uvědomil jsem si že v roce 1977 létaly stroje F 16 strašit nad naší státní hranicí vědomi si toho že jsou rychlejší než tehdy Mig 21 a uvědomil jsem si že je to 47, slovy čtyřicetsedm let. A nyní těmito stroji chtějí strašit Rusa. To je k smíchu když vím že už tenkrát ty Miginy lehce tyto vetřelce zaháněly. Za těch 50 let je to jako závodit s parní lokomotivou . No a to jsou přesně Ti co tvrdili, že létali na Měsíc. 
LOCATION:Svět
END:VEVENT
END:VCALENDAR