BEGIN:VCALENDAR
VERSION:2.0
BEGIN:VEVENT
URL:https://1rodina.cz/index.php/sit-1rodina/udalosti/viewevent/164-pravo-na-zivot-si-musi-chranit-kazdy-tvor-sam 
DTSTART:20240624T000000
DTEND:20241231T001500
SUMMARY:PRÁVO NA ŽIVOT SI MUSÍ CHRÁNIT KAŽDÝ TVOR SÁM
DESCRIPTION:Nechápu proč se zabývat koncepcemi na celosvětové zdraví, když mají v plánu nás vyhubit. Pořád platí v zdravém těle zdravý vz duch a naopak zdravý duch sídlí ve zdravém těle a žádné pilule nezajistí tvořivé myšlení, protože právě mysl ovlivňuje a tvoří ZDRAVÍ  to tělesné
LOCATION:SVĚT
END:VEVENT
END:VCALENDAR