BEGIN:VCALENDAR
VERSION:2.0
BEGIN:VEVENT
URL:https://1rodina.cz/index.php/sit-1rodina/udalosti/viewevent/165-mysl-tvoriva-sila 
DTSTART:20240624T000000
DTEND:20241231T001500
SUMMARY:MYSL - TVOŘIVÁ SÍLA
DESCRIPTION:Už jsem to tady nakousl, místo pláče nad rozlitým mlékem může každý z nás podpořit svou myšlenkou třeba mír pěkně z pohodlí z gauče, když je jasné že nikdo z nás nemá koule na to  zničit vojenský konvoj třeba jak to dělali partyzáni cukrem v nádrži. Nechtěl jsem to tady ventilovat, je pravda, že jsem podpořil Roberta  i Ondru a zajímavé je, že za to Robert poděkoval i když nevím jak si to uvědomil. No navrhuji spojit myšlenky a společně zapůsobit do prostoru a to po dobu 5, slovy PĚT MINUT Mám  dnes ještě možnost vložit jednu událost a tam krátce popíšu  co a jak.  
LOCATION:SVĚT
END:VEVENT
END:VCALENDAR