BEGIN:VCALENDAR
VERSION:2.0
BEGIN:VEVENT
URL:https://1rodina.cz/index.php/sit-1rodina/udalosti/viewevent/166-vecerni-naladeni-na-vsechny-zbrane-v19-19-05-hodin-25-6-2024 
DTSTART:20240625T000000
DTEND:20240710T001500
SUMMARY:VEČERNÍ NALADĚNÍ NA VŠECHNY ZBRANĚ v19.-19.05 hodin 25.6.2024
DESCRIPTION:Přátelé kdo má zájem o společné působení na veškeré zbraně napište mi zde do soukromé pošty. Nemá smysl prezentovat působení pro ostatní, které to neosloví .Těším se na večer.  Zkusím takto podpořit mír asi týden ve stejnou hodinu a uvidíme, uvidíme ( povídal slepý hluchýmu) 
LOCATION:SVĚT
END:VEVENT
END:VCALENDAR