BEGIN:VCALENDAR
VERSION:2.0
BEGIN:VEVENT
URL:https://1rodina.cz/index.php/sit-1rodina/udalosti/viewevent/167-mysl-je-to-o-co-se-tady-hraje 
DTSTART:20240626T000000
DTEND:20240731T001500
SUMMARY:MYSL JE TO O CO SE TADY HRAJE
DESCRIPTION:Představuju si to jako v rodině. Aby fungovala plníme potřebné úkoly. Například je třeba zalít kytky a je třeba natřít plot A teď vybrat a splnit správný úkol. K čemu je mi natřený plot když uschnou kytky. A ve státě k čemu je mi obrana když obyvatelstvo vymírá. Dochází mi, že při plnění úkolů je  důležité mít na mysli vždy tu prioritu - vytvářet podmínky pro rodiny a nenechat se smýkat podněty zvenčí tu euro to letadélka tu bacily. 
LOCATION:SVĚT
END:VEVENT
END:VCALENDAR