BEGIN:VCALENDAR
VERSION:2.0
BEGIN:VEVENT
URL:https://1rodina.cz/index.php/sit-1rodina/udalosti/viewevent/168-laska-je-nejvetsi-hybnou-silou-ve-vesmiru 
DTSTART:20240626T000000
DTEND:20240731T001500
SUMMARY:LÁSKA JE NEJVĚTŠÍ HYBNOU SILOU VE VESMÍRU
DESCRIPTION:Ten kdo vysílá lásku přes srdeční čakru , což se dá přirovnat k mávnutí křídel motýla vyvolá bouři v oceánu jak praví jedna moudrost. A LÁSKA  JE TAKY TO O CO SE TU HRAJE 
LOCATION:SVĚT
END:VEVENT
END:VCALENDAR