BEGIN:VCALENDAR
VERSION:2.0
BEGIN:VEVENT
URL:https://1rodina.cz/index.php/sit-1rodina/udalosti/viewevent/169-laska-a-mysl-je-v-soiuhrnu-to-o-co-se-hraje 
DTSTART:20240627T000000
DTEND:20240731T001500
SUMMARY:LÁSKA A MYSL JE V SOIUHRNU TO O CO SE HRAJE
DESCRIPTION:To je to co nám umožňuje PŘEŽÍT, ostatní je druhořadé. Víte ptával se mne frézař při rozdělování úkolů " Ivoši co je priorita" a smál se když jsem říkat Oto priorita je PŘEŽÍT. Vyplývá z toho promne že důležité je všechno konat s vědomím čisté mysli ( předkové tomu říkali Selský rozum) a  lásky. Tyto dva atributy nám nikdo nevezme když je sami neodevzdáme.
LOCATION:Česká republika
END:VEVENT
END:VCALENDAR