BEGIN:VCALENDAR
VERSION:2.0
BEGIN:VEVENT
URL:https://1rodina.cz/index.php/sit-1rodina/udalosti/viewevent/17-divadlo-spejbla-a-hurvinka-kazdou-stredu-ve-snemovne 
DTSTART:20230824T000000
DTEND:20230824T001500
SUMMARY:DIVADLO SPEJBLA A HURVÍNKA KAŽDOU STŘEDU VE SNĚMOVNÉ
DESCRIPTION:Zdravím všechny příznivce zábavy, maňáskové divadlo pro občany každou středu ve sněmovně
LOCATION:Praha
END:VEVENT
END:VCALENDAR