BEGIN:VCALENDAR
VERSION:2.0
BEGIN:VEVENT
URL:https://1rodina.cz/index.php/sit-1rodina/udalosti/viewevent/170-nas-plan-cr-1-zije-a-sili-i-v-euriparlamentu 
DTSTART:20240630T000000
DTEND:20241231T001500
SUMMARY:NÁŠ PLÁN ČR 1. ŽIJE A SÍLÍ I V EURIPARLAMENTU
DESCRIPTION:Sice ústy A. Babiše při ustavení nové frakce v EP kde přesně okopíroval plán Česká Republika na 1. místě Mám radost, že se myšlenka Láďi Vrabela povznesla do celé Evropy, v té frakci jsou Slováci, Maďaři, Češi co vím. Znovu mne napadá myšlenka že mávnutí křídel motýla vyvolá klidně bouři. I když to v EP vyslovil A. Babiš mám z toho velkou radost a chci se se všemi o ní podělit
LOCATION:Svět
END:VEVENT
END:VCALENDAR