BEGIN:VCALENDAR
VERSION:2.0
BEGIN:VEVENT
URL:https://1rodina.cz/index.php/sit-1rodina/udalosti/viewevent/171-nejak-to-drhne-po-ukonceni-mandatu 
DTSTART:20240702T000000
DTEND:20240711T000000
SUMMARY:NĚJAK TO DRHNE PO UKONČENÍ MANDÁTU
DESCRIPTION:Přátelé občanům už došla trpělivost a pokusili se před třemi dny o převrat na nejdemokratičtějším územím ve vesmíru. PROPAGANDA K TOMU MLČÍ 
LOCATION:Východní Evropa
END:VEVENT
END:VCALENDAR