BEGIN:VCALENDAR
VERSION:2.0
BEGIN:VEVENT
URL:https://1rodina.cz/index.php/sit-1rodina/udalosti/viewevent/172-uz-to-asi-zabali 
DTSTART:20240702T000000
DTEND:20240731T000000
SUMMARY:UŽ TO ASI ZABALÍ
DESCRIPTION:Už i ve zprávách na Seznamu zveřejnili letecké ztráty, celkem ze 125 stíhaček je již 90 zničeno a k tomu nepoškozený ukořistěný naváděcí systém jedné demokratické země ochromí raketové útoky na pláže.
LOCATION:Východní Evropa
END:VEVENT
END:VCALENDAR