BEGIN:VCALENDAR
VERSION:2.0
BEGIN:VEVENT
URL:https://1rodina.cz/index.php/sit-1rodina/udalosti/viewevent/175-slozili-jsme-se-na-danich-o-690-miliadr-navic-a-statu-to-nestaci 
DTSTART:20240703T000000
DTEND:20240731T000000
SUMMARY: SLOŽILI JSME SE NA DANÍCH o 690 miliadr navíc a státu to nestačí
DESCRIPTION:Přátelé těch 690 miliard ( ani to pořádně neumím s těmi nulami napsat)  JE NAVÍC proti výši daní před dobou ledovou a hospodaří se s tím s péčí řádného hospodáře. Nakupujeme, nakupujeme, nakupujeme a půjčujeme jako by se nechumelilo. 
LOCATION:Česká republika
END:VEVENT
END:VCALENDAR