BEGIN:VCALENDAR
VERSION:2.0
BEGIN:VEVENT
URL:https://1rodina.cz/index.php/sit-1rodina/udalosti/viewevent/176-svatek-a-oslavy 
DTSTART:20240705T000000
DTEND:20240705T001500
SUMMARY:SVÁTEK A OSLAVY
DESCRIPTION:Přátelé včera měla moje tchýně narozeniny (86) naříkala, že jí bolí nohy a netráví žaludek a ohrnovala nos nad doneseným lečem. Než přišli mladí rozmasíroval jsem jí nohy a prohřál břicho no a nic. Odjeli jsme nakupovat a zeď volal, že u ní zapomněl telefon. Vrátili jsme se pro něj a hlásila že si ohřívá lečo a běhala jako čiperka. Smál jsem se a když jsme přijeli domů přivezl Z klubu přátel Josefova človíček a dal nám pro ni dárkový balíček. Při tom jsme se navzájem vyzpovídali a zjistili jsme že můj táta ho před lety na vojně zavřel na noc do šatlavy. Já jsem mu říkal že to byl pěkný exot a pokaždé když si na jeho historky vzpomenu musím se smát. Zjistil jsem., že jsem všichni spolu provázaní a je milé se spolu bavit a povídat. Vzpomněl jsem si na takové moudro JÁ JSEM JENOM JINÝ TY SÁM. 
LOCATION:Česká republika
END:VEVENT
END:VCALENDAR