BEGIN:VCALENDAR
VERSION:2.0
BEGIN:VEVENT
URL:https://1rodina.cz/index.php/sit-1rodina/udalosti/viewevent/177-uz-bezi-bezi-volali-husiti-za-krizaky-a-ted-bezi-fasouni 
DTSTART:20240704T000000
DTEND:20240708T000000
SUMMARY:UŽ BĚZÍ, BĚŽÍ VOLALI HUSITI ZA KŘIŽÁKY A TEĎ BĚŽÍ FAŠOUNI
DESCRIPTION:Přátelé utíkají a jak áda hlásal ve válce proti Rusku křičí že do předem připravených pozic. Běží a stáhli při tom ocas mezi nohy. 
LOCATION:Východní Evropa
END:VEVENT
END:VCALENDAR