BEGIN:VCALENDAR
VERSION:2.0
BEGIN:VEVENT
URL:https://1rodina.cz/index.php/sit-1rodina/udalosti/viewevent/178-petikolka-a-reporteri-ct-na-velehrade 
DTSTART:20240705T000000
DTEND:20240708T001500
SUMMARY:PĚTIKOLKA A REPORTÉŘI ČT NA VELEHRADĚ
DESCRIPTION:Přátelé za komoušů se nadávalo potentátům " BOJTE SE BOHA SOUDRUZI" a dnes sedí v první řadě na Velehradě pětikolka a uvádí to kluci a holky co komentují na ČT grafy při volbách a orodují pro lidi dobré vůle. Když to vidím dal bych jim i suchou kůrku jak jsou dojemní a lidumilní . Při tom jezdí na srazy lansmanšaftu a líbají prsteny mecenášů. Opravdu dojemné divadlo
LOCATION:Česká republika
END:VEVENT
END:VCALENDAR