BEGIN:VCALENDAR
VERSION:2.0
BEGIN:VEVENT
URL:https://1rodina.cz/index.php/sit-1rodina/udalosti/viewevent/179-sokolove 
DTSTART:20240706T000000
DTEND:20240708T001500
SUMMARY:SOKOLOVÉ
DESCRIPTION:Přátelé sestava žen mne opravdu nadchla a uvědomuju si při tom čím dál víc že ony jsou motorem společnosti. Dokonce jich je tolik že vystupují dvě party.
LOCATION:Česká republika
END:VEVENT
END:VCALENDAR