BEGIN:VCALENDAR
VERSION:2.0
BEGIN:VEVENT
URL:https://1rodina.cz/index.php/sit-1rodina/udalosti/viewevent/18-detsky-den-v-brvanech-okr-louny-16-9-2023 
DTSTART:20230916T000000
DTEND:20230916T001500
SUMMARY:Dětský den v Břvanech (okr. Louny) 16.9.2023
DESCRIPTION:pro malé i větší (soutěže, šikovnost, odvaha, kreslení křídou, posunování těžkého břemena, vyprošťování auta po nehodě, pomoc při zranění, možnost vyzkoušet proutkaření...)
LOCATION:Břvany okr. Louny
END:VEVENT
END:VCALENDAR