BEGIN:VCALENDAR
VERSION:2.0
BEGIN:VEVENT
URL:https://1rodina.cz/index.php/sit-1rodina/udalosti/viewevent/180-pohyb-pro-radost-to-je-vyssi-level-takzvanych-sportovnich-her 
DTSTART:20240706T000000
DTEND:20240708T001500
SUMMARY:POHYB PRO RADOST - TO JE VYŠŠÍ LEVEL TAKZVANÝCH SPORTOVNÍCH HER
DESCRIPTION:Přátelé chválili i sestavu mužů, že tam už nejsou taková BŘÍŠKA a celkově vše v národních barvách a s Českými písněmi. 
LOCATION:Česká republika
END:VEVENT
END:VCALENDAR