BEGIN:VCALENDAR
VERSION:2.0
BEGIN:VEVENT
URL:https://1rodina.cz/index.php/sit-1rodina/udalosti/viewevent/181-v-anglii-se-zmenila-vlada 
DTSTART:20240706T000000
DTEND:20240708T001500
SUMMARY:V ANGLII SE ZMĚNILA VLÁDA
DESCRIPTION:Přátelé váleční štváči v Anglii prohráli volby
LOCATION:SVĚT
END:VEVENT
END:VCALENDAR