BEGIN:VCALENDAR
VERSION:2.0
BEGIN:VEVENT
URL:https://1rodina.cz/index.php/sit-1rodina/udalosti/viewevent/184-konecne-sami 
DTSTART:20240706T000000
DTEND:20240731T000000
SUMMARY:KONEČNĚ SAMI
DESCRIPTION:Přátelé včera jsem ještě chlácholil cestovní horečku vnuků a dnes ráno SMS dojeli jsme k vodě. Nakoupil jsem tekutiny a zmrzliny , fakt slavím Dovedete si to představit celých 14 slovy čtrnáct dnů absolutní svobody.
LOCATION:SVĚT
END:VEVENT
END:VCALENDAR