BEGIN:VCALENDAR
VERSION:2.0
BEGIN:VEVENT
URL:https://1rodina.cz/index.php/sit-1rodina/udalosti/viewevent/187-pripomina-to-dikobraz-satiristicky-tydenik 
DTSTART:20240708T000000
DTEND:20240731T000000
SUMMARY:PŘIPOMÍNÁ TO DIKOBRAZ SATIRISTICKÝ TÝDENÍK
DESCRIPTION:Přátelé takhle nějak vypadal za komoušů satyristický týdeník pro pobavení plebejců. Připadá mi. že se už dokážeme s lehkostí přes tato témata přenést a jít konstruktivní cestou a prosazovat MÍR  Skákat z jednoho neduhu na druhý človíčka odvádí od ústředního tématu změnu systému. To je to co měli Husité v chorálu " Hleď si každý šiku svého" něco jako neuhýbej od podstaty. No to jen tak jak to vnímám
LOCATION:Svět
END:VEVENT
END:VCALENDAR