BEGIN:VCALENDAR
VERSION:2.0
BEGIN:VEVENT
URL:https://1rodina.cz/index.php/sit-1rodina/udalosti/viewevent/188-leto-budiz-pochvaleno 
DTSTART:20240710T000000
DTEND:20240711T001500
SUMMARY:LÉTO BUDIŽ POCHVÁLENO
DESCRIPTION:Přátelé přeji všem dobré ráno a poslušně hlásím, že jsem byl v 08.15 hodin se psem  v podhorských lázních v řece Metuji. Je to balzám pro tělo i pro dušičku. Teď mně může kdo chce co chce vyprávět o nešvarech ve státě je mi to úplně jedno, tečka. Až bude potřeba tak zase zaberu.
LOCATION:Jaroměř
END:VEVENT
END:VCALENDAR