BEGIN:VCALENDAR
VERSION:2.0
BEGIN:VEVENT
URL:https://1rodina.cz/index.php/sit-1rodina/udalosti/viewevent/19-sliby-v-ceskem-pravu 
DTSTART:20230915T000000
DTEND:20230915T001500
SUMMARY:SLIBY v ČESKÉM PRÁVU
DESCRIPTION:Přátelé. Po měsíci přesvědčování se mi podařilo sjednat schůzku s posledním v pořadí šestým z šestičlenné rady města. Musel jsem mu připomenout JEHO SLIB zastupitele. a to. SLIBUJI VĚRNOST ČESKÉ REPUBLICE. SLIBUJI NA SVOU ČEST a SVĚDOMÍ, ŽE SVOJI FUNKCI BUDU VYKONÁVAT SVĚDOMITĚ, V ZÁJMU OBCE A JEJICH OBČANU A ŘÍDIT SE ÚSRAVOU A ZÁKONA ČESKÉ REPUBVLIKY. Zabralo to asi má zbytky svědomí a cti.Pěkný den Ivoš
LOCATION:Královéhradecký kraj
END:VEVENT
END:VCALENDAR