BEGIN:VCALENDAR
VERSION:2.0
BEGIN:VEVENT
URL:https://1rodina.cz/index.php/sit-1rodina/udalosti/viewevent/190-tisicileta-civilizace-a-250-let-trvani-propojenych-statu 
DTSTART:20240711T000000
DTEND:20240731T000000
SUMMARY:TISÍCILETÁ CIVILIZACE a 250 let trvání propojených států
DESCRIPTION:Přátelé všimnul jsem si že nikdo z tisícileté kultury netvrdí MY JSME VÝCHDNÍ, nestaví se do pozice středu světa a neposuzuje ostatní  podle toho jestli žijí nalevo, napravo dole, nahoře A NAPROTI TOMU DOBYVATELÉ NAJPRVE ZDECIMOVALI PÚVODNÍ OBYVATELE A PO DVĚSTĚ LETECH TVRDÍ ŽE MAJI PATENT NA ROZUM.
LOCATION:Svět
END:VEVENT
END:VCALENDAR