BEGIN:VCALENDAR
VERSION:2.0
BEGIN:VEVENT
URL:https://1rodina.cz/index.php/sit-1rodina/udalosti/viewevent/191-opak-informace-tak-to-vysvetoval-mudrc-z-vlady 
DTSTART:20240711T000000
DTEND:20240731T000000
SUMMARY:OPAK INFORMACE - TAK TO VYSVĚTOVAL MUDRC Z VLÁDY
DESCRIPTION:Přátelé krmí nás tady nesmyslnými pojmy. Poprvé použil toto slovo Adolf ve své fašistické  propagandě v boji proti nepodvoleným. Smysl toho slova nikdo nedovede vysvětlit. OPAK INFORMACE. Dalo by říct  že opak informování je mlčení. Tak jak to propaganda používá je vlastně zaobalené sovo LEŽ. Jenomže kdyby něco kdokoli označil jako LEŽ vyžaduje dávku odvahy protože pravda se dá dokázat a lež argumenty vyvrátit. Takhle Ti SRABÍCI balamutí lidičky nesmyslným jakoby pojmy.
LOCATION:svět
END:VEVENT
END:VCALENDAR