BEGIN:VCALENDAR
VERSION:2.0
BEGIN:VEVENT
URL:https://1rodina.cz/index.php/sit-1rodina/udalosti/viewevent/192-muze-nosit-nausnici 
DTSTART:20240714T000000
DTEND:20240731T000000
SUMMARY:MÚŽE NOSIT NÁUŠNICI
DESCRIPTION:Přátelé omlouvám se za to zlehčování, vidím stále jasněji jak mávnutí křídel motýla vyvolává bouři, jak významná je ta naše mravenčí práce sotva patrná v tom vesmírném kolotoči. MÁM VELKOU RADOST ŽE VĚCI SE DĚJÍ a kolo dějin se pootáčí z toho srabu.
LOCATION:Svět
END:VEVENT
END:VCALENDAR