BEGIN:VCALENDAR
VERSION:2.0
BEGIN:VEVENT
URL:https://1rodina.cz/index.php/sit-1rodina/udalosti/viewevent/193-ja-jsem-jenom-jiny-ty-sam 
DTSTART:20240714T000000
DTEND:20240715T000000
SUMMARY:JÁ JSEM JENOM JINÝ TY SÁM
DESCRIPTION:Přátelé na téhle události jsem si uvědomil jak jsme všichni mentálně propojeni: Před nádražím v Táboře zamykali v noci halu a ostraha vyhnala dva trhany. Začalo pršet a sedl jsem si pod stříšku s bednami pro noviny. Přišli a zeptali se jestli si mohou přisednout, kývl jsem ten starší si sedl těsně ke mně a ten mladší proti mně takže jsem byl pěkně v koutě Blesklo mi hlavou no paráda. Začali jsme se bavit ten starší se mne zeptal jestli si může zapálit trávu. Kývl jsem a rozpovídali jsme se. Starší se živil jako malíř pokojů, fasád atak. Ten mladší si našel práci v Plzni ve fabrice pro autaře. Po pěti dnech  pro něj strýc přijel a on té roboty nechal. Bala tma jako v pytli a ten starší bez problémů řekl že je proti mně mlaďák že je mu teprve 45 let. Byli naštvaní že jsou kousek od domova a nejede jim vlak a uvažovali že si vezmou taxi. Teprve když jsme se loučili a podávali si ruce došlo mi že to jsou cikáni Přijelo taxi a odjeli Ostraze nádraží spadla čelist a ještě jsme spolu pokecali Věděl že na naší oslavě Byl Eman Gott a tak.
LOCATION:Tábor
END:VEVENT
END:VCALENDAR