BEGIN:VCALENDAR
VERSION:2.0
BEGIN:VEVENT
URL:https://1rodina.cz/index.php/sit-1rodina/udalosti/viewevent/194-ja-jsem-jenom-jiny-ty-sam-druhy-dil 
DTSTART:20240714T000000
DTEND:20240716T000000
SUMMARY:JÁ JSEM JENOM JINÝ TY SÁM - DRUHÝ DÍL
DESCRIPTION:Pokračování co se nevešlo.: I když byla tma jako v pytli ten straší po několika věrách jasně řekl že je proti mně mlaďák, že je mu teprve 45 let. Byli naštvaní, že jsou kousek od domova a nejede jim vlak. Uvažovali že si vezmou taxi. Ten straší se živil jako malíř pokojů a fasád a mladší si našel v Plzni místo ve fabrice pro automobilku a po pěti dnech toho robotování nechal. Teprve když jsme se loučili a podávali si ruce všiml jsem si že to jsou cikáni. Přijelo taxi a ostraze u nádraží spadla čelist. ještě jsme spolu mluvili i o naší oslavě a on věděl že tam byl i Emanulel Gott. Došlo mi jak jsme spolu tak nějak intuitivně a mentálně propojeni
LOCATION:Tábor
END:VEVENT
END:VCALENDAR