BEGIN:VCALENDAR
VERSION:2.0
BEGIN:VEVENT
URL:https://1rodina.cz/index.php/sit-1rodina/udalosti/viewevent/195-vesela-mysl-pul-zdravi-moudrost-nasich-predku 
DTSTART:20240715T000000
DTEND:20240731T000000
SUMMARY:VESELÁ MYSL PÚL ZDRAVÍ - MOUDROST NAŠICH PŘEDKÚ
DESCRIPTION:<span>Přátelé v článku " Ničí deprese mozkové buňky" píší "vědci" o ubývání mozkových buňek v části zvané Hipokampus a z toho ten parkynson a ten druhý Němec.</span><div>Už dříve jsem četl článek "SMÍCH LÉČÍ" a při čtení mi tekly slzy "smíchem". Tři  staří vědci začali trpět tím alzhaimrem a jeden se dozvěděl, že kdesi v Tibetu mniši i toto léčí. Řekl to kolegům že to zkusí a oni to mlčky přešli. On odjel a posledních 15 km se jelo na mezcích - na něj nevyšel a když se doklopýtal na dvůr kláštera uvítal je mnich a pravil. U nás dodržujte dně pravidla. " úsměv a chodit zpříma" a kdo se proti tomu prohřeší bude pomáhat tím, že bude nosit vodu. Dva kilometry z kopce džbán 5 kg a 15 l vody a při tom se taky usmívat. No ze začátku bylo hodně nosičů vody. Těžko se to dodržovalo ale protože to nošení dost bolelo snažil se a přistihl se když procházel kolem zrcadla začal se ihned šklebit a pak si uvědomil ... pokračování 2. díl</div>
LOCATION:SVĚT
END:VEVENT
END:VCALENDAR