BEGIN:VCALENDAR
VERSION:2.0
BEGIN:VEVENT
URL:https://1rodina.cz/index.php/sit-1rodina/udalosti/viewevent/196-smich-leci-pokracovani-k-clanku-nici-deprese-mozek 
DTSTART:20240715T000000
DTEND:20240731T000000
SUMMARY:SMÍCH LÉČÍ - pokračování k článku ničí deprese mozek
DESCRIPTION:No při tom nošení se museli také usmíval. Bylo to dost těžké. V chrámu se také přistihl když procházel kolem zrcadla, že se ihned začal šklebit ( no aby nemusel pro vodu) Postupně nosičů ubývalo. Jednou ho mnich vyzval když dorazil se džbánem aby došel pro vodu. Ohradil se vždyť už jsem byl a mnich pravil, ale cestou jsi zhřešit a ukázal na mnicha z dalekohledem na věži. No když končili mnich řekl to nošení vody byl jen prostředek aby jste si přes bolavé tělo uvědomili ty dvě zásady a ukázal na studnu. No přijel domů a zjistil, že je zdravý a kolegové se ho ptali tak co jek tam léčili a on to přešel mlčením a pousmáním.
LOCATION:SVĚT
END:VEVENT
END:VCALENDAR