BEGIN:VCALENDAR
VERSION:2.0
BEGIN:VEVENT
URL:https://1rodina.cz/index.php/sit-1rodina/udalosti/viewevent/197-lada-podal-stiznost-proti-udajnemu-sireni-lzi 
DTSTART:20240716T000000
DTEND:20240731T000000
SUMMARY:LÁĎA PODAL STÍŽNOST PROTI ÚDAJNÉMU ŠÍŘENÍ LŽÍ
DESCRIPTION:Přátelé ve světle nynějších událostí se soudce cvrček nebo prcek nebo jek se jmenuje musí začít učit chodit kanály protože to co rozhodl je lež a bude zajímavé jak ve světle současných událostí posoudí nákup a použití bombardérů a výkřikům na napadení největšího státu světa. ONI SE SAMI UTOPÍ VE LVLASTNÍCH LŽÍCH.  Láďa původně řekl, že se na stížnosti vyprdne už to že mu dali pokutu bylo zpochybnění lživého rozsudku Ale události pokročily a všechno co bylo posuzováno jako lež se ukazuje jako PRAVDA Přátelé v americké televizi o stížnosti Láďi informovali a na veřejné televizi TICHO PO PĚŠINÉ.
LOCATION:SVĚT
END:VEVENT
END:VCALENDAR