BEGIN:VCALENDAR
VERSION:2.0
BEGIN:VEVENT
URL:https://1rodina.cz/index.php/sit-1rodina/udalosti/viewevent/198-priznani-o-snaze-zabit-prezidenta-putina 
DTSTART:20240716T000000
DTEND:20240731T000000
SUMMARY:PŘIZNÁNÍ O SNAZE ZABÍT PREZIDENTA PUTINA
DESCRIPTION:<span>Přátelé i v amerických zprávách a ukrajinských zpravodajských službách rozebírají a přiznávají finančně podporované plánované zabití prezidenta Putina. Vzpomínám si jak Hurvínek se s dětmi bavil a ptal  se JICH  kdo má zabít Putina a ještě měli takový nějaký nápis na tričkách. Je na tom vidět, že MAJÍ SPOLEČNÉ NOTY </span><div>Je dobře vidět ta strategie- Lidem nakecat lži a hrát o čas a až se pravda ukáže je už (pro ně) pravda zapomenuta. Je dobře že se tyto INFORMACE zveřejňují. </div>
LOCATION:SVĚT
END:VEVENT
END:VCALENDAR