BEGIN:VCALENDAR
VERSION:2.0
BEGIN:VEVENT
URL:https://1rodina.cz/index.php/sit-1rodina/udalosti/viewevent/199-zpracovany-prehled-nasi-potazmo-moji-pracovni-skupiny 
DTSTART:20240718T000000
DTEND:20240731T000000
SUMMARY:ZPRACOVANÝ PŘEHLED "NAŠÍ" potažmo mojí pracovní skupiny
DESCRIPTION:Přátelé ve  struktuře fungování našeho hnutí byl učiněn první krok, byl zpracován přehled členů  1. pracovní skupiny s kontakty. Není to moje práce jenom informuji.
LOCATION:Česká republika
END:VEVENT
END:VCALENDAR