BEGIN:VCALENDAR
VERSION:2.0
BEGIN:VEVENT
URL:https://1rodina.cz/index.php/sit-1rodina/udalosti/viewevent/20-pratele-amici-nemaji-penizky-na-platy-statnich-zamestnancu 
DTSTART:20231002T000000
DTEND:20231003T000000
SUMMARY:Přátelé. Amíci nemají penízky na platy státních zaměstnanců
DESCRIPTION:
LOCATION:Královéhradecký kraj
END:VEVENT
END:VCALENDAR